BEGIN:VCALENDAR
VERSION:2.0
PRODID:-//Rocky Mountain Horse Association - ECPv6.15.20//NONSGML v1.0//EN
CALSCALE:GREGORIAN
METHOD:PUBLISH
X-ORIGINAL-URL:https://www.rmhorse.com
X-WR-CALDESC:Events for Rocky Mountain Horse Association
REFRESH-INTERVAL;VALUE=DURATION:PT1H
X-Robots-Tag:noindex
X-PUBLISHED-TTL:PT1H
BEGIN:VTIMEZONE
TZID:America/New_York
BEGIN:DAYLIGHT
TZOFFSETFROM:-0500
TZOFFSETTO:-0400
TZNAME:EDT
DTSTART:20210314T070000
END:DAYLIGHT
BEGIN:STANDARD
TZOFFSETFROM:-0400
TZOFFSETTO:-0500
TZNAME:EST
DTSTART:20211107T060000
END:STANDARD
BEGIN:DAYLIGHT
TZOFFSETFROM:-0500
TZOFFSETTO:-0400
TZNAME:EDT
DTSTART:20220313T070000
END:DAYLIGHT
BEGIN:STANDARD
TZOFFSETFROM:-0400
TZOFFSETTO:-0500
TZNAME:EST
DTSTART:20221106T060000
END:STANDARD
BEGIN:DAYLIGHT
TZOFFSETFROM:-0500
TZOFFSETTO:-0400
TZNAME:EDT
DTSTART:20230312T070000
END:DAYLIGHT
BEGIN:STANDARD
TZOFFSETFROM:-0400
TZOFFSETTO:-0500
TZNAME:EST
DTSTART:20231105T060000
END:STANDARD
END:VTIMEZONE
BEGIN:VTIMEZONE
TZID:UTC
BEGIN:STANDARD
TZOFFSETFROM:+0000
TZOFFSETTO:+0000
TZNAME:UTC
DTSTART:20210101T000000
END:STANDARD
END:VTIMEZONE
BEGIN:VEVENT
DTSTART;TZID=America/New_York:20220709T180000
DTEND;TZID=America/New_York:20220709T233000
DTSTAMP:20260422T140406
CREATED:20220524T183915Z
LAST-MODIFIED:20220524T183915Z
UID:10000117-1657389600-1657409400@www.rmhorse.com
SUMMARY:Lewisburg-Mill Creek Lions Club Show
DESCRIPTION:Lewisburg-Mill Creek Lions Club Show \nJuly 9\, 2022 \nB \nLions Memorial Park \nMaysville\, KY \nMike Merrill: mlmerrilly@gmail.com
URL:https://www.rmhorse.com/event/lewisburg-mill-creek-lions-club-show/
LOCATION:Lions Memorial Park\, 6047 KY-3170\, Maysville\, KY\, 41056\, United States
CATEGORIES:2022 Shows,Show
ORGANIZER;CN="mike merrill":MAILTO:mlmerrilly@gmail.com
END:VEVENT
BEGIN:VEVENT
DTSTART;VALUE=DATE:20220625
DTEND;VALUE=DATE:20220626
DTSTAMP:20260422T140406
CREATED:20220120T005207Z
LAST-MODIFIED:20220208T231626Z
UID:10000089-1656115200-1656201599@www.rmhorse.com
SUMMARY:Bill Corey Memorial
DESCRIPTION:6/25/2022\nBill Corey Memorial\nB\nBeattyville Saddle Club\nBeattyville\, KY \nWhitney MacArthur:stunnerstables@yahoo.com
URL:https://www.rmhorse.com/event/billy-corey-memorial/
LOCATION:Beattyville Saddle Club\, Beattyville\, KY\, United States
CATEGORIES:2022 Shows,Show
ORGANIZER;CN="Whitney McArthur":MAILTO:stunnerstables@yahoo.com
END:VEVENT
BEGIN:VEVENT
DTSTART;VALUE=DATE:20220618
DTEND;VALUE=DATE:20220619
DTSTAMP:20260422T140406
CREATED:20220208T231542Z
LAST-MODIFIED:20220208T231542Z
UID:10000011-1655510400-1655596799@www.rmhorse.com
SUMMARY:7th Annual Get Your Pink On Show
DESCRIPTION:6/18/2022 \n7th Annual Get Your Pink on Show \nA \nOwingsville Lions Club Park \nOwingsville\, KY \nJennifer Allen: jallen@republicbank.com
URL:https://www.rmhorse.com/event/7th-annual-get-your-pink-on-show/
LOCATION:Owingsville Lions Club\, 100 Kendall Springs Rd\, Owingsville\, KY\, 40360\, United States
CATEGORIES:2022 Shows,Show
ORGANIZER;CN="Jennifer Allen":MAILTO:jennann09@gmail.com
END:VEVENT
BEGIN:VEVENT
DTSTART;VALUE=DATE:20220611
DTEND;VALUE=DATE:20220612
DTSTAMP:20260422T140406
CREATED:20220215T215031Z
LAST-MODIFIED:20220215T215031Z
UID:10000014-1654905600-1654991999@www.rmhorse.com
SUMMARY:Lee County Saddle Club Summer Celebration
DESCRIPTION:June 11\, 2022 \nLee County Saddle Club Summer Celebration \nB \nLee County Saddle Club Arena \nBeattyville\, KY \nMarkeeta Moore: markeeta124@gmail.com
URL:https://www.rmhorse.com/event/lee-county-saddle-club-summer-celebration/
LOCATION:Lee County Saddle Club Arena\, 3 Mile Branch Rd\, Beattyville\, KY\, 41311\, United States
CATEGORIES:2022 Shows,Show
ORGANIZER;CN="Markeeta Moore":MAILTO:markeeta124@gmail.com
END:VEVENT
BEGIN:VEVENT
DTSTART;VALUE=DATE:20220610
DTEND;VALUE=DATE:20220611
DTSTAMP:20260422T140406
CREATED:20220330T162554Z
LAST-MODIFIED:20220330T162554Z
UID:10000018-1654819200-1654905599@www.rmhorse.com
SUMMARY:Carter County Shrine Club Show
DESCRIPTION:Carter County Shrine Club Show \nJune 10\, 2022 \n“B” \nCarter County Shrine Club Showgrounds \nOlive Hill\, KY \nLewis Kiser: gjustice122@yahoo.com
URL:https://www.rmhorse.com/event/carter-county-shrine-club-show/
LOCATION:Carter County Shrine Club Showgrounds\, 155 Samuel L Waggoner Memorial Dr\, Olive Hill\, KY\, 41164\, United States
CATEGORIES:2022 Shows,Show
ORGANIZER;CN="Lewis Kiser":MAILTO:lewiskiser1@gmail.com
END:VEVENT
BEGIN:VEVENT
DTSTART;VALUE=DATE:20220603
DTEND;VALUE=DATE:20220605
DTSTAMP:20260422T140406
CREATED:20220208T231331Z
LAST-MODIFIED:20220314T144405Z
UID:10000109-1654214400-1654387199@www.rmhorse.com
SUMMARY:NMHA Summer Classic
DESCRIPTION:June 3-4\, 2022 \nNMHA Summer Classic \nB \nCentral Kentucky Ag/Expo Center \nLiberty\, KY \nHeather Shivel-McClure: heatherzanet79@yahoo.com
URL:https://www.rmhorse.com/event/nmha-summer-classic/
LOCATION:Central Kentucky Ag/ Expo Center\, 678 Wallace Wilkinson Blvd\, Liberty\, KY\, 42539\, United States
CATEGORIES:2022 Shows,Show
ORGANIZER;CN="Heather Shivel-McClure":MAILTO:heatherzanet79@yahoo.com
END:VEVENT
BEGIN:VEVENT
DTSTART;VALUE=DATE:20220528
DTEND;VALUE=DATE:20220529
DTSTAMP:20260422T140406
CREATED:20220208T231017Z
LAST-MODIFIED:20220208T231017Z
UID:10000077-1653696000-1653782399@www.rmhorse.com
SUMMARY:Bluegrass RMHA Showcase
DESCRIPTION:5/28/2022 \nBluegrass RHMA Showcase \nB \nMorgan County Equestrian Park \nWest Liberty\, KY \nWhitney McArthur: stunnerstables@yahoo.com
URL:https://www.rmhorse.com/event/bluegrass-rmha-showcase-2/
LOCATION:Morgan County Equestrian Park\, 4465 Liberty Rd\, West Liberty\, KY\, 41472\, United States
CATEGORIES:2022 Shows,Show
ORGANIZER;CN="Whitney McArthur":MAILTO:stunnerstables@yahoo.com
END:VEVENT
BEGIN:VEVENT
DTSTART;VALUE=DATE:20220521
DTEND;VALUE=DATE:20220522
DTSTAMP:20260422T140406
CREATED:20220120T004354Z
LAST-MODIFIED:20220314T144441Z
UID:10000093-1653091200-1653177599@www.rmhorse.com
SUMMARY:NMHA Memorial Premiere
DESCRIPTION:5/21/2022 \nNMHA Memorial Premiere \nB \nBrodhead Fair Grounds \nBroadhead\, KY \nHeather Shivel-McClure: heatherzanet79@yahoo.com
URL:https://www.rmhorse.com/event/nmha-memorial-premiere/
LOCATION:Brodhead Fairgrounds\, Castle Village Dr\, Brodhead\, 40409\, United States
CATEGORIES:2022 Shows,Show
ORGANIZER;CN="Heather Shivel-McClure":MAILTO:heatherzanet79@yahoo.com
END:VEVENT
BEGIN:VEVENT
DTSTART;VALUE=DATE:20220514
DTEND;VALUE=DATE:20220516
DTSTAMP:20260422T140406
CREATED:20220120T004805Z
LAST-MODIFIED:20220209T233022Z
UID:10000091-1652486400-1652659199@www.rmhorse.com
SUMMARY:Summer Celebration Open Gaited Horse Show
DESCRIPTION:5/13-14/2022 \nSummer Celebration Open Gaited Horse Show \nB\nLone Hickory Arena\nYadkinville\, NC \nMilda Minter: pasofinotrainer@gmail.com
URL:https://www.rmhorse.com/event/summer-celebration-open-gaited-horse-show/
LOCATION:Lone Hickory Arena\, 1950 Bethel Church Rd\, Yadkinville\, NC\, United States
CATEGORIES:2022 Shows,Show
ORGANIZER;CN="Milda Minter":MAILTO:pasofinotrainer@gmail.com
END:VEVENT
BEGIN:VEVENT
DTSTART;VALUE=DATE:20220514
DTEND;VALUE=DATE:20220515
DTSTAMP:20260422T140406
CREATED:20220208T230334Z
LAST-MODIFIED:20220209T232843Z
UID:10000079-1652486400-1652572799@www.rmhorse.com
SUMMARY:Sharon Copher Memorial Horse Show
DESCRIPTION:5/14/2022 \nSharon Copher Memorial Horse Show \nA \nOwingsville Lions Club Park \nOwingsville\, KY \nArizona Copher: abcopher@outlook.com
URL:https://www.rmhorse.com/event/sharon-copher-memorial-horse-show-4/
LOCATION:Owingsville Lions Club\, 100 Kendall Springs Rd\, Owingsville\, KY\, 40360\, United States
CATEGORIES:2022 Shows,Show
ORGANIZER;CN="Arizona Copher":MAILTO:zonirocks@hotmail.com
END:VEVENT
BEGIN:VEVENT
DTSTART;VALUE=DATE:20220507
DTEND;VALUE=DATE:20220508
DTSTAMP:20260422T140406
CREATED:20220120T003709Z
LAST-MODIFIED:20220414T173833Z
UID:10000002-1651881600-1651967999@www.rmhorse.com
SUMMARY:RMHA Spring Kickoff
DESCRIPTION:5/7/2022 \nRMHA Spring Kickoff \nB \nMorgan County Equestrian Park \nWest Liberty\, KY \nWhitney MacArthur: stunnerstables@yahoo.com
URL:https://www.rmhorse.com/event/rmha-spring-kickoff-2/
LOCATION:Morgan County Equestrian Park\, 4465 Liberty Rd\, West Liberty\, KY\, 41472\, United States
CATEGORIES:2022 Shows,Show
ORGANIZER;CN="Whitney McArthur":MAILTO:stunnerstables@yahoo.com
END:VEVENT
BEGIN:VEVENT
DTSTART;VALUE=DATE:20220506
DTEND;VALUE=DATE:20220508
DTSTAMP:20260422T140406
CREATED:20220208T225850Z
LAST-MODIFIED:20220208T230006Z
UID:10000081-1651795200-1651967999@www.rmhorse.com
SUMMARY:NWHA Gaited Rumble Show Series: Regional Championship
DESCRIPTION:5/6-7/2022 \nNWHA Gaited Rumble Show Series: Regional Championship \nB \nBell County Expo Center \nBelton\, TX \nPaula Sue Swope: paulasue@showsignup.com
URL:https://www.rmhorse.com/event/nwha-gaited-rumble-show-series-regional-championship/
LOCATION:Bell County Expo Center\, 301 W Loop 121\, Belton\, TX\, 76513\, United States
CATEGORIES:2022 Shows
ORGANIZER;CN="Paula Sue Swope":MAILTO:Paulasueswope@gmail.com
END:VEVENT
BEGIN:VEVENT
DTSTART;VALUE=DATE:20220402
DTEND;VALUE=DATE:20220404
DTSTAMP:20260422T140406
CREATED:20220228T150913Z
LAST-MODIFIED:20220228T150913Z
UID:10000016-1648857600-1649030399@www.rmhorse.com
SUMMARY:Highlander Ranch Spring Show
DESCRIPTION:Highlander Ranch Spring Show \nApril 2-3\, 2022 \nB \nHighlander Ranch \nWaco\, TX \nAimee Edwards: aedwards@mclennan.edu \n 
URL:https://www.rmhorse.com/event/highlander-ranch-spring-show/
LOCATION:Highlander Ranch\, 233 Cobbs Ln\, Waco\, TX\, 76708\, United States
CATEGORIES:2022 Shows
ORGANIZER;CN="Aimee Edwards":MAILTO:aedwards@mclennan.edu
END:VEVENT
END:VCALENDAR