BEGIN:VCALENDAR
VERSION:2.0
PRODID:-//Rocky Mountain Horse Association - ECPv6.15.20//NONSGML v1.0//EN
CALSCALE:GREGORIAN
METHOD:PUBLISH
X-WR-CALNAME:Rocky Mountain Horse Association
X-ORIGINAL-URL:https://www.rmhorse.com
X-WR-CALDESC:Events for Rocky Mountain Horse Association
REFRESH-INTERVAL;VALUE=DURATION:PT1H
X-Robots-Tag:noindex
X-PUBLISHED-TTL:PT1H
BEGIN:VTIMEZONE
TZID:UTC
BEGIN:STANDARD
TZOFFSETFROM:+0000
TZOFFSETTO:+0000
TZNAME:UTC
DTSTART:20190101T000000
END:STANDARD
END:VTIMEZONE
BEGIN:VEVENT
DTSTART;VALUE=DATE:20201010
DTEND;VALUE=DATE:20201011
DTSTAMP:20260419T192455
CREATED:20200811T234536Z
LAST-MODIFIED:20200811T234536Z
UID:10000082-1602288000-1602374399@www.rmhorse.com
SUMMARY:8th Annual Worldwide RMHA Pink Ride
DESCRIPTION:October 10 \nFlyer
URL:https://www.rmhorse.com/event/8th-annual-worldwide-rmha-pink-ride/
CATEGORIES:RMHA Event
END:VEVENT
END:VCALENDAR