BEGIN:VCALENDAR
VERSION:2.0
PRODID:-//Rocky Mountain Horse Association - ECPv6.15.20//NONSGML v1.0//EN
CALSCALE:GREGORIAN
METHOD:PUBLISH
X-ORIGINAL-URL:https://www.rmhorse.com
X-WR-CALDESC:Events for Rocky Mountain Horse Association
REFRESH-INTERVAL;VALUE=DURATION:PT1H
X-Robots-Tag:noindex
X-PUBLISHED-TTL:PT1H
BEGIN:VTIMEZONE
TZID:America/New_York
BEGIN:DAYLIGHT
TZOFFSETFROM:-0500
TZOFFSETTO:-0400
TZNAME:EDT
DTSTART:20220313T070000
END:DAYLIGHT
BEGIN:STANDARD
TZOFFSETFROM:-0400
TZOFFSETTO:-0500
TZNAME:EST
DTSTART:20221106T060000
END:STANDARD
BEGIN:DAYLIGHT
TZOFFSETFROM:-0500
TZOFFSETTO:-0400
TZNAME:EDT
DTSTART:20230312T070000
END:DAYLIGHT
BEGIN:STANDARD
TZOFFSETFROM:-0400
TZOFFSETTO:-0500
TZNAME:EST
DTSTART:20231105T060000
END:STANDARD
BEGIN:DAYLIGHT
TZOFFSETFROM:-0500
TZOFFSETTO:-0400
TZNAME:EDT
DTSTART:20240310T070000
END:DAYLIGHT
BEGIN:STANDARD
TZOFFSETFROM:-0400
TZOFFSETTO:-0500
TZNAME:EST
DTSTART:20241103T060000
END:STANDARD
BEGIN:DAYLIGHT
TZOFFSETFROM:-0500
TZOFFSETTO:-0400
TZNAME:EDT
DTSTART:20250309T070000
END:DAYLIGHT
BEGIN:STANDARD
TZOFFSETFROM:-0400
TZOFFSETTO:-0500
TZNAME:EST
DTSTART:20251102T060000
END:STANDARD
BEGIN:DAYLIGHT
TZOFFSETFROM:-0500
TZOFFSETTO:-0400
TZNAME:EDT
DTSTART:20260308T070000
END:DAYLIGHT
BEGIN:STANDARD
TZOFFSETFROM:-0400
TZOFFSETTO:-0500
TZNAME:EST
DTSTART:20261101T060000
END:STANDARD
END:VTIMEZONE
BEGIN:VTIMEZONE
TZID:UTC
BEGIN:STANDARD
TZOFFSETFROM:+0000
TZOFFSETTO:+0000
TZNAME:UTC
DTSTART:20200101T000000
END:STANDARD
END:VTIMEZONE
BEGIN:VEVENT
DTSTART;VALUE=DATE:20250530
DTEND;VALUE=DATE:20250601
DTSTAMP:20260423T011630
CREATED:20250409T160202Z
LAST-MODIFIED:20250409T160649Z
UID:10000200-1748563200-1748735999@www.rmhorse.com
SUMMARY:NWHA Gaited Rumble Regional Championship
DESCRIPTION:B-Rated \nNWHA Gaited Rumble Regional Championship Show Bill
URL:https://www.rmhorse.com/event/nwha-gaited-rumble-regional-championship-3/
LOCATION:Williamson County Expo\, Taylor\, TX\, Taylor\, TX
CATEGORIES:Show
ORGANIZER;CN="Paula Sue Swope":MAILTO:Paulasueswope@gmail.com
END:VEVENT
BEGIN:VEVENT
DTSTART;TZID=America/New_York:20230428T080000
DTEND;TZID=America/New_York:20230429T233000
DTSTAMP:20260423T011630
CREATED:20230321T143217Z
LAST-MODIFIED:20230321T143217Z
UID:10000100-1682668800-1682811000@www.rmhorse.com
SUMMARY:Gaited Rumble Regional Championship
DESCRIPTION:B-Rated
URL:https://www.rmhorse.com/event/gaited-rumble-regional-championship/
LOCATION:Bell County Expo Center\, 301 W Loop 121\, Belton\, TX\, 76513\, United States
CATEGORIES:Show
ORGANIZER;CN="Paula Sue Swope":MAILTO:Paulasueswope@gmail.com
END:VEVENT
BEGIN:VEVENT
DTSTART;VALUE=DATE:20230330
DTEND;VALUE=DATE:20230402
DTSTAMP:20260423T011630
CREATED:20230104T145657Z
LAST-MODIFIED:20230207T144643Z
UID:10000028-1680134400-1680393599@www.rmhorse.com
SUMMARY:Waco Spring Classic Horse Show
DESCRIPTION:B-Rated
URL:https://www.rmhorse.com/event/charity-horse-shows-of-texas/
LOCATION:Extraco Event Center\, 4601 Bosque Blvd\, Waco\, TX\, 76710\, United States
CATEGORIES:Show
ORGANIZER;CN="Paula Sue Swope":MAILTO:Paulasueswope@gmail.com
END:VEVENT
BEGIN:VEVENT
DTSTART;VALUE=DATE:20220506
DTEND;VALUE=DATE:20220508
DTSTAMP:20260423T011630
CREATED:20220208T225850Z
LAST-MODIFIED:20220208T230006Z
UID:10000081-1651795200-1651967999@www.rmhorse.com
SUMMARY:NWHA Gaited Rumble Show Series: Regional Championship
DESCRIPTION:5/6-7/2022 \nNWHA Gaited Rumble Show Series: Regional Championship \nB \nBell County Expo Center \nBelton\, TX \nPaula Sue Swope: paulasue@showsignup.com
URL:https://www.rmhorse.com/event/nwha-gaited-rumble-show-series-regional-championship/
LOCATION:Bell County Expo Center\, 301 W Loop 121\, Belton\, TX\, 76513\, United States
CATEGORIES:2022 Shows
ORGANIZER;CN="Paula Sue Swope":MAILTO:Paulasueswope@gmail.com
END:VEVENT
BEGIN:VEVENT
DTSTART;VALUE=DATE:20210515
DTEND;VALUE=DATE:20210516
DTSTAMP:20260423T011630
CREATED:20210324T203358Z
LAST-MODIFIED:20210324T203358Z
UID:10000061-1621036800-1621123199@www.rmhorse.com
SUMMARY:NWHA Gaited Rumble Regional Championship
DESCRIPTION:May 15\, 2021\nNWHA Gaited Rumble Regional Championship\nB\nExtraco Event Center\nWaco\, Texas \nKatie Helfrich Show Manager.\nPaula Swope: paulasue@showsignup.com
URL:https://www.rmhorse.com/event/nwha-gaited-rumble-regional-championship-2/
LOCATION:Extraco Event Center\, 4601 Bosque Blvd\, Waco\, TX\, 76710\, United States
CATEGORIES:Show
ORGANIZER;CN="Paula Sue Swope":MAILTO:Paulasueswope@gmail.com
END:VEVENT
BEGIN:VEVENT
DTSTART;VALUE=DATE:20210514
DTEND;VALUE=DATE:20210515
DTSTAMP:20260423T011630
CREATED:20210324T203321Z
LAST-MODIFIED:20210324T203321Z
UID:10000062-1620950400-1621036799@www.rmhorse.com
SUMMARY:NWHA Gaited Rumble Regional Championship
DESCRIPTION:May 14\, 2021\nNWHA Gaited Rumble Regional Championship\nB\nExtraco Event Center\nWaco\, Texas \nKatie Helfrich Show Manager.\nPaula Swope: paulasue@showsignup.com
URL:https://www.rmhorse.com/event/nwha-gaited-rumble-regional-championship/
LOCATION:Extraco Event Center\, 4601 Bosque Blvd\, Waco\, TX\, 76710\, United States
CATEGORIES:Show
ORGANIZER;CN="Paula Sue Swope":MAILTO:Paulasueswope@gmail.com
END:VEVENT
BEGIN:VEVENT
DTSTART;VALUE=DATE:20210311
DTEND;VALUE=DATE:20210314
DTSTAMP:20260423T011630
CREATED:20201112T044609Z
LAST-MODIFIED:20210105T034705Z
UID:10000071-1615420800-1615679999@www.rmhorse.com
SUMMARY:Corsicana Charity Horse Show
DESCRIPTION:Three separate shows: March 11\, 12\, and 13\, 2021 \nName: Corsicana Charity Horse Show \nMarch 11\, 12 Class:  B\nMarch 13 Class: A \nLocation: Navarro County Expo Center\, Corsicana\, TX \nShow Manager: Paula Sue Swope Paulasueswope@gmail.com \n 
URL:https://www.rmhorse.com/event/corsicana-charity-horse-show/
LOCATION:Navarro County Expo Center\, 4021 W E State Hwy 22\, Corsicana\, TX\, 75110\, United States
CATEGORIES:Show
ORGANIZER;CN="Paula Sue Swope":MAILTO:Paulasueswope@gmail.com
END:VEVENT
END:VCALENDAR